BEGIN:VCALENDAR
VERSION:2.0
PRODID:-//eventon.com NONSGML v1.0//EN
BEGIN:VEVENT
UID:69eb29d05c74f
DTSTAMP:20260424T092904
DTSTART:20200912T090000Z
DTEND:20200919T220000Z
LOCATION:
SUMMARY:Scuba Diving Trip - El Gouna\,  Hurghada\,  Egypt - September 2020
DESCRIPTION: We are running a flexible September 2020 trip to El Gouna\,  Hurghada\,  Egypt for the dates Saturday 12 September 2020 to Saturday 19 September 2020 which has amazing diving. All the information you require for the trip is below to include accommodation and prices. The group has been to Egypt[..]
END:VEVENT
END:VCALENDAR