BEGIN:VCALENDAR
VERSION:2.0
PRODID:-//eventon.com NONSGML v1.0//EN
BEGIN:VEVENT
UID:69e89323ac592
DTSTAMP:20260422T102139
DTSTART:20200905T080000Z
DTEND:20201206T210000Z
LOCATION:
SUMMARY:Dive Trip to Maldives - Liveaboard Options - Sept/Oct/Nov 2020 Best of the Maldives
DESCRIPTION: DURING THE MONTHS OF SEPTEMBER/OCTOBER & NOVEMBER 2020 WE WILL BE OFFERING DIVERS THE OPPORTUNITY OF JOINING MALDIVES LIVEABOARDS. WE WILL LIST THE DIFFERENT LIVEABOARD OPTIONS AVAILABLE AND DIVERS FROM THE GROUP WILL BE ABOVE TO SELECT AND JOIN THE LIVEABOARD ONCE AVAILABILITY AND PRICE IS CONFIRMED. We will have[..]
END:VEVENT
END:VCALENDAR